BEGIN:VCALENDAR
VERSION:2.0
PRODID:-//ChamberMaster//Event Calendar 2.0//EN
METHOD:PUBLISH
X-PUBLISHED-TTL:P3D
REFRESH-INTERVAL:P3D
CALSCALE:GREGORIAN
BEGIN:VEVENT
DTSTART:20111011T170000Z
DTEND:20111012T030000Z
X-MICROSOFT-CDO-ALLDAYEVENT:FALSE
SUMMARY:Giovanni's Dining to End Domestic Violence
DESCRIPTION:Dine at Giovanni's on October 11.  Mention SPAN and Giovanni's will donate 10% of their proceeds to us!\n\n	 \n\n	October is Domestic Violence Awareness Month\, and on behalf of Safehouse Progressive Alliance for Nonviolence (SPAN)\, We are pleased to invite you to be a part of Dining to End Domestic Violence. This month-long series of fundraising events will support services for domestic violence survivors and their children in Boulder and Broomfield Counties.\n\n	\n\n	Since 1979 SPAN has been providing healing\, hope and opportunity to adults and children who are impacted by abuse. Our Domestic Violence Awareness Month events are a critical component to raising the funds needed to provide safe\, confidential emergency shelter\, counseling\, legal advocacy and more to hundreds of people each year. These services are changing lives\, even saving lives right here in our own community!\n\n	All proceeds support the Safehouse Progressive Alliance for Nonviolence.
X-ALT-DESC;FMTTYPE=text/html:<h4>\n	Dine at&nbsp\;Giovanni&#39\;s on October 11.&nbsp\; Mention SPAN and Giovanni&#39\;s will donate 10% of their proceeds to us!<br />\n	&nbsp\;</h4>\n<p>\n	October is Domestic Violence Awareness Month\, and on behalf of Safehouse Progressive Alliance for Nonviolence (SPAN)\, We&nbsp\;are pleased to invite you to be a part of Dining to End Domestic Violence. This month-long series of fundraising events will support services for domestic violence survivors and their children in Boulder and Broomfield Counties.<br />\n	<br />\n	Since 1979 SPAN has been providing healing\, hope and opportunity to adults and children who are impacted by abuse. Our Domestic Violence Awareness Month events are a critical component to raising the funds needed to provide safe\, confidential emergency shelter\, counseling\, legal advocacy and more to hundreds of people each year. These services are changing lives\, even saving lives right here in our own community!<br />\n	All proceeds support the Safehouse Progressive Alliance for Nonviolence.&nbsp\;</p>\n
LOCATION:Giovanni's 627 S. Broadway Suite A Boulder Colorado
UID:e.641.3063
SEQUENCE:3
DTSTAMP:20260420T005513Z
URL:http://business.broomfieldchamber.com/events/details/giovanni-s-dining-to-end-domestic-violence-10-11-2011-3063
END:VEVENT

END:VCALENDAR
