BEGIN:VCALENDAR
VERSION:2.0
PRODID:-//ChamberMaster//Event Calendar 2.0//EN
METHOD:PUBLISH
X-PUBLISHED-TTL:P3D
REFRESH-INTERVAL:P3D
CALSCALE:GREGORIAN
BEGIN:VEVENT
DTSTART;VALUE=DATE:20111215
DTEND;VALUE=DATE:20111219
TRANSP:TRANSPARENT
X-MICROSOFT-CDO-ALLDAYEVENT:TRUE
SUMMARY:Girls Night Out
DESCRIPTION:"The Last Gift Dash".  Come in and receive a 40% discount off your total purchase.\n\nHappy Holiday and we hope to see you here.
X-ALT-DESC;FMTTYPE=text/html:<strong><span style="font-size: 14px">&quot\;The Last Gift Dash</span></strong>&quot\;.&nbsp\; Come in and receive a <strong><span style="font-size: 14px">40%</span></strong> discount off your total purchase.<br />\nHappy Holiday and we hope to see you here.<br />\n
LOCATION:Flatirons Mall\, Broomfield
UID:e.641.3149
SEQUENCE:3
DTSTAMP:20260419T223218Z
URL:http://business.broomfieldchamber.com/events/details/girls-night-out-12-15-2011-3149
END:VEVENT

END:VCALENDAR
