BEGIN:VCALENDAR
VERSION:2.0
PRODID:-//ChamberMaster//Event Calendar 2.0//EN
METHOD:PUBLISH
X-PUBLISHED-TTL:P3D
REFRESH-INTERVAL:P3D
CALSCALE:GREGORIAN
BEGIN:VEVENT
DTSTART;VALUE=DATE:20110908
DTEND;VALUE=DATE:20110909
TRANSP:TRANSPARENT
X-MICROSOFT-CDO-ALLDAYEVENT:TRUE
SUMMARY:Girls Night Out at Coldwater Creek
DESCRIPTION:Love shopping with your girlfriends?  Join us during Girls Night Out\, on September 8th\, 2011\, and receive a special discount. \n\n	\n\n	Come by yourself to shop and receive 20% off your purchase.  Or bring your girlfriends and you ALL will receive 30% off your purchases that day.
X-ALT-DESC;FMTTYPE=text/html:<p>\n	Love shopping with your girlfriends?&nbsp\; Join us during <em>Girls Night Out\, </em>on September 8th\, 2011\, and receive a special discount.&nbsp\;<br />\n	<br />\n	Come by yourself to shop and receive 20% off your purchase.&nbsp\; Or bring your girlfriends and you&nbsp\;<u><strong>ALL</strong></u>&nbsp\;will&nbsp\;receive 30% off your purchases that day.<br />\n	<br />\n	<br />\n	<br />\n	&nbsp\;</p>\n
LOCATION:FlatIron Mall
UID:e.641.2885
SEQUENCE:3
DTSTAMP:20260420T034811Z
URL:http://business.broomfieldchamber.com/events/details/girls-night-out-at-coldwater-creek-09-08-2011-2885
END:VEVENT

END:VCALENDAR
