BEGIN:VCALENDAR
VERSION:2.0
PRODID:-//ChamberMaster//Event Calendar 2.0//EN
METHOD:PUBLISH
X-PUBLISHED-TTL:P3D
REFRESH-INTERVAL:P3D
CALSCALE:GREGORIAN
BEGIN:VEVENT
DTSTART:20111202T000000Z
DTEND:20111202T040000Z
X-MICROSOFT-CDO-ALLDAYEVENT:FALSE
SUMMARY:Girls Night Out Holiday Event - Make a Wish List
DESCRIPTION:Coldwater Creek would like to extend an invation to the Broomfield Chamber for our Girls Night Out.\n\nStart wishing...ten lucky customers will win a shopping spree!\n\nWe will give chamber members a 30% discount.\n\nHope to see you.
X-ALT-DESC;FMTTYPE=text/html:Coldwater Creek would like to extend an invation to the Broomfield Chamber for our Girls Night Out.<br />\nStart wishing...ten lucky customers will win a shopping spree!<br />\nWe will give chamber members a 30% discount.<br />\nHope to see you.
LOCATION:Flatirons Mall\, Broomfield\, Co 80602
UID:e.641.3130
SEQUENCE:3
DTSTAMP:20260419T235700Z
URL:http://business.broomfieldchamber.com/events/details/girls-night-out-holiday-event-make-a-wish-list-12-01-2011-3130
END:VEVENT

END:VCALENDAR
