BEGIN:VCALENDAR
VERSION:2.0
PRODID:-//ChamberMaster//Event Calendar 2.0//EN
METHOD:PUBLISH
X-PUBLISHED-TTL:P3D
REFRESH-INTERVAL:P3D
CALSCALE:GREGORIAN
BEGIN:VEVENT
DTSTART:20111209T000000Z
DTEND:20111209T040000Z
X-MICROSOFT-CDO-ALLDAYEVENT:FALSE
SUMMARY:Girls Night Out Holiday Event - The Big Give
DESCRIPTION:Coldwater Creek would like to extend an invation to the Broomfield Chamber for our Girls Night Out.\n\nAn event with heart.\n\nYou choose the charities\, we'll make the donations.\n\nWe will give chamber members a 30% discount.\n\nHope to see you.
X-ALT-DESC;FMTTYPE=text/html:Coldwater Creek would like to extend an invation to the Broomfield Chamber for our Girls Night Out.<br />\nAn event with heart.<br />\nYou choose the charities\, we&#39\;ll make the donations.<br />\nWe will give chamber members a 30% discount.<br />\nHope to see you.
LOCATION:Flatirons Mall\, Broomfield\, Co 80602
UID:e.641.3131
SEQUENCE:3
DTSTAMP:20260419T223622Z
URL:http://business.broomfieldchamber.com/events/details/girls-night-out-holiday-event-the-big-give-12-08-2011-3131
END:VEVENT

END:VCALENDAR
