BEGIN:VCALENDAR
VERSION:2.0
PRODID:-//ChamberMaster//Event Calendar 2.0//EN
METHOD:PUBLISH
X-PUBLISHED-TTL:P3D
REFRESH-INTERVAL:P3D
CALSCALE:GREGORIAN
BEGIN:VEVENT
DTSTART:20100324T003000Z
DTEND:20100324T013000Z
X-MICROSOFT-CDO-ALLDAYEVENT:FALSE
SUMMARY:Global Children's Gardens & Growing Spaces Free presentation on sustainability
DESCRIPTION:Global Children's Garden & Growing Spaces present free event on the Growing Dome\, sustainability\, and growing year round.  Discussion to follow.
X-ALT-DESC;FMTTYPE=text/html:Global Children's Garden &amp\; Growing Spaces present free event on the Growing Dome\, sustainability\, and growing year round.  Discussion to follow.  
LOCATION:Broomfield Public Library
UID:e.641.581
SEQUENCE:3
DTSTAMP:20260421T055827Z
URL:http://business.broomfieldchamber.com/events/details/global-children-s-gardens-growing-spaces-free-presentation-on-sustainability-03-23-2010-581
END:VEVENT

END:VCALENDAR
