BEGIN:VCALENDAR
VERSION:2.0
PRODID:-//ChamberMaster//Event Calendar 2.0//EN
METHOD:PUBLISH
X-PUBLISHED-TTL:P3D
REFRESH-INTERVAL:P3D
CALSCALE:GREGORIAN
BEGIN:VEVENT
DTSTART:20120426T233000Z
DTEND:20120427T010000Z
X-MICROSOFT-CDO-ALLDAYEVENT:FALSE
SUMMARY:"Gluten-Free Revisted and Simplified" Cooking Class
DESCRIPTION:Learn ways to add more fiber and nutrition to your gluten-free products and expand your repertoire of menu offerings.  Be prepared by stocking your pantry with a variety of basic "master flour blends" and learn how to utilize nut oils and nut flavors in your dishes. \n\nChef Deb will start with Coconut Banana Pancake Muffins\, an Easy Pizza Dough and Flatbread for sandwiches.  Then she will prepare Buckwheat Pasta with some unlikely vegetable stand-ins and finish with Chocolate and Pavlova with berries --finally a delicious dessert that everyone can eat!
X-ALT-DESC;FMTTYPE=text/html:<span style="font-size: 14px"><span style="font-family: verdana">Learn ways to add more fiber and nutrition to your gluten-free products and expand your repertoire of menu offerings.&nbsp\; Be prepared by stocking your pantry with a variety of basic &quot\;master flour blends&quot\; and learn how to utilize nut oils and nut flavors in your dishes.&nbsp\;<br />\nChef Deb will start with Coconut Banana Pancake Muffins\, an Easy Pizza Dough and Flatbread for sandwiches.&nbsp\; Then she will prepare Buckwheat Pasta with some unlikely vegetable stand-ins and finish with Chocolate and Pavlova with berries --finally a delicious dessert that everyone can eat!</span></span>
LOCATION:Mountain High Appliance\, 1130 Pine St\, Louisville\, Co. 80027
UID:e.641.3952
SEQUENCE:3
DTSTAMP:20260419T162428Z
URL:http://business.broomfieldchamber.com/events/details/gluten-free-revisted-and-simplified-cooking-class-04-26-2012-3952
END:VEVENT

END:VCALENDAR
