BEGIN:VCALENDAR
VERSION:2.0
PRODID:-//ChamberMaster//Event Calendar 2.0//EN
METHOD:PUBLISH
X-PUBLISHED-TTL:P3D
REFRESH-INTERVAL:P3D
CALSCALE:GREGORIAN
BEGIN:VEVENT
DTSTART:20111210T160000Z
DTEND:20111211T000000Z
X-MICROSOFT-CDO-ALLDAYEVENT:FALSE
SUMMARY:Grand Opening - Big Frog Custom T-shirts
DESCRIPTION:Come visit us for our Grand Opening!\n\n\n\nWe will have free custom t-shirt raffles\, in-store one day only specials\, free refreshments and much more!\n\n\n\nBring the kiddos\, fun will be had by all!
X-ALT-DESC;FMTTYPE=text/html:Come visit us for our Grand Opening!<br />\n<br />\nWe will have free custom t-shirt raffles\, in-store one day only specials\, free refreshments and much more!<br />\n<br />\nBring the kiddos\, fun will be had by all!
LOCATION:10442 Town Center Drive\, Suite 400
UID:e.641.3140
SEQUENCE:3
DTSTAMP:20260419T235417Z
URL:http://business.broomfieldchamber.com/events/details/grand-opening-big-frog-custom-t-shirts-12-10-2011-3140
END:VEVENT

END:VCALENDAR
