BEGIN:VCALENDAR
VERSION:2.0
PRODID:-//ChamberMaster//Event Calendar 2.0//EN
METHOD:PUBLISH
X-PUBLISHED-TTL:P3D
REFRESH-INTERVAL:P3D
CALSCALE:GREGORIAN
BEGIN:VEVENT
DTSTART;VALUE=DATE:20100519
DTEND;VALUE=DATE:20100520
TRANSP:TRANSPARENT
X-MICROSOFT-CDO-ALLDAYEVENT:TRUE
SUMMARY:Grand Opening Event at Walmart Store #4288
DESCRIPTION:Grand Opening Event
X-ALT-DESC;FMTTYPE=text/html:Grand Opening Event
LOCATION:Walmart\, 4651 W\, 121st Ave\, Broomfield\, CO 80020
UID:e.641.1058
SEQUENCE:3
DTSTAMP:20260421T024943Z
URL:http://business.broomfieldchamber.com/events/details/grand-opening-event-at-walmart-store-4288-05-19-2010-1058
END:VEVENT

END:VCALENDAR
