BEGIN:VCALENDAR
VERSION:2.0
PRODID:-//ChamberMaster//Event Calendar 2.0//EN
METHOD:PUBLISH
X-PUBLISHED-TTL:P3D
REFRESH-INTERVAL:P3D
CALSCALE:GREGORIAN
BEGIN:VEVENT
DTSTART;VALUE=DATE:20110311
DTEND;VALUE=DATE:20110312
TRANSP:TRANSPARENT
X-MICROSOFT-CDO-ALLDAYEVENT:TRUE
SUMMARY:Grand Opening - Golden Spoon
DESCRIPTION:To thank the Broomfield community for welcoming Golden Spoon to the neighborhood\, Golden Spoon is giving away free frozen yogurt all day! Stop by the formal ribbon cutting from 3 p.m. to 4 p.m.
X-ALT-DESC;FMTTYPE=text/html:To thank the Broomfield community for welcoming Golden Spoon to the neighborhood\, Golden Spoon is giving away free frozen yogurt all day! Stop by the formal ribbon cutting from 3 p.m. to 4 p.m.
LOCATION:Golden Spoon Frozen Yogurt 12161 Sheridan Blvd Broomfield\, CO 80020
UID:e.641.1373
SEQUENCE:3
DTSTAMP:20260420T110845Z
URL:http://business.broomfieldchamber.com/events/details/grand-opening-golden-spoon-03-11-2011-1373
END:VEVENT

END:VCALENDAR
