BEGIN:VCALENDAR
VERSION:2.0
PRODID:-//ChamberMaster//Event Calendar 2.0//EN
METHOD:PUBLISH
X-PUBLISHED-TTL:P3D
REFRESH-INTERVAL:P3D
CALSCALE:GREGORIAN
BEGIN:VEVENT
DTSTART:20110704T230000Z
DTEND:20110705T050000Z
X-MICROSOFT-CDO-ALLDAYEVENT:FALSE
SUMMARY:Great American Picnic and Fireworks Extravaganza
DESCRIPTION:Your family and friends are invited to attend the Great American Picnic and Fireworks Extravaganza to be held at the Broomfield County Commons complex.  The Fourth of July Celebration begins at 5:00 p.m. with entertainment for children and carnival games.  At 7:00 p.m. there is a free patriotic concert the whole family will enjoy\, followed at 8:45 p.m. by a video commemorating the 50th anniversary of Broomfield.  Bring a picnic or enjoy affordable hot dogs\, chips and soft drinks which will be sold at the park.  After the concert\, the fireworks display begins   approximately 9:15 p.m.   \n\n \n\nMore information regarding fireworks and details for the Great American Picnic are available at 303-438-6589.\n\n \n\nTo report fireworks violations call 303-438-6400.\n\n \n\nIf you have any additional questions please contact the Broomfield Police Department at 303-438-6400 or North Metro Fire Rescue District at 303-252-3017.\n\n \n\nSergeant H.R. Walts                                                                                 \n\nPublic Information Officer\n\nBroomfield Police Department                                               \n\n303-252-3017\n\n \n\nWendy Forbes\n\nPublic Information Officer\n\nNorth Metro Fire Rescue District\n\n303-438-6400\n\n\n\n\n\nNorth Metro Fire Rescue is dedicated to your quality care.  North Metro Fire Rescue provides fire protection\, emergency medical services\, hazardous materials response and rescue services to our community.  Formed in 1946\, the district now covers 63 square miles with a population of approximately 103\,000 people including the City and County of Broomfield\, the City of Northglenn and unincorporated areas of Boulder\, Adams and Jefferson Counties.
X-ALT-DESC;FMTTYPE=text/html:<span style="font-size: 11pt">Your family and friends are invited to attend the <em><strong>Great American Picnic and Fireworks Extravaganza</strong></em> to be held at the<strong><em> Broomfield County Commons complex</em></strong>.&nbsp\; The Fourth of July Celebration begins at 5:00 p.m. with entertainment for children and carnival games.&nbsp\; At 7:00 p.m. there is a free patriotic concert the whole family will enjoy\, followed at 8:45 p.m. by a video commemorating the 50th anniversary of Broomfield.&nbsp\; Bring a picnic or enjoy affordable hot dogs\, chips and soft drinks which will be sold at the park.&nbsp\; After the concert\, the fireworks display begins &ndash\; approximately 9:15 p.m.&nbsp\;&nbsp\; </span><br />\n&nbsp\;<br />\n<span style="font-size: 11pt">More information regarding fireworks and details for the Great American Picnic are available at 303-438-6589.</span><br />\n&nbsp\;<br />\n<span style="font-size: 11pt">To report fireworks violations call 303-438-6400.</span><br />\n&nbsp\;<br />\n<span style="font-size: 11pt">If you have any additional questions please contact the Broomfield Police Department at 303-438-6400 or North Metro Fire Rescue District at 303-252-3017.</span><br />\n&nbsp\;<br />\n<u><span style="font-size: 11pt">Sergeant H.R. Walts</span></u>&nbsp\;&nbsp\;&nbsp\;&nbsp\;&nbsp\;&nbsp\;&nbsp\;&nbsp\;&nbsp\;&nbsp\;&nbsp\;&nbsp\;&nbsp\;&nbsp\;&nbsp\;&nbsp\;&nbsp\;&nbsp\;&nbsp\;&nbsp\;&nbsp\;&nbsp\;&nbsp\;&nbsp\;&nbsp\;&nbsp\;&nbsp\;&nbsp\;&nbsp\;&nbsp\;&nbsp\;&nbsp\;&nbsp\;&nbsp\;&nbsp\;&nbsp\;&nbsp\;&nbsp\;&nbsp\;&nbsp\;&nbsp\;&nbsp\;&nbsp\;&nbsp\;&nbsp\;&nbsp\;&nbsp\;&nbsp\;&nbsp\;&nbsp\;&nbsp\;<span style="font-size: 11pt">&nbsp\;&nbsp\;&nbsp\;&nbsp\;&nbsp\;&nbsp\;&nbsp\;&nbsp\;&nbsp\;&nbsp\;&nbsp\;&nbsp\;&nbsp\;&nbsp\;&nbsp\;&nbsp\;&nbsp\;&nbsp\;&nbsp\;&nbsp\;&nbsp\;&nbsp\;&nbsp\;&nbsp\;&nbsp\;&nbsp\;&nbsp\;&nbsp\;&nbsp\;&nbsp\;<br />\nPublic Information Officer</span><br />\n<span style="font-size: 11pt">Broomfield Police Department</span><span style="font-size: 11pt">&nbsp\;&nbsp\;&nbsp\;&nbsp\;&nbsp\;&nbsp\;&nbsp\;&nbsp\;&nbsp\;&nbsp\;&nbsp\;&nbsp\;&nbsp\;&nbsp\;&nbsp\;&nbsp\;&nbsp\;&nbsp\;&nbsp\;&nbsp\;&nbsp\;&nbsp\;&nbsp\;</span><span style="font-size: 11pt">&nbsp\;&nbsp\;&nbsp\;&nbsp\;&nbsp\;&nbsp\;&nbsp\;&nbsp\;&nbsp\;&nbsp\;&nbsp\;&nbsp\;&nbsp\;&nbsp\;&nbsp\;&nbsp\;&nbsp\;&nbsp\;&nbsp\;&nbsp\;&nbsp\;&nbsp\;&nbsp\;&nbsp\;</span><br />\n<span style="font-size: 11pt">303-252-3017</span><br />\n&nbsp\;<br />\n<span style="font-size: 11pt"><u>Wendy Forbes</u><br />\n<span style="font-size: 11pt">Public Information Officer<br />\n<font size="3">North Metro Fire Rescue District<br />\n<span style="font-size: 11pt">303-438-6400</span></font></span></span><br />\n<br />\n<br />\n<em><span style="font-size: 11pt">North Metro Fire Rescue is dedicated to your quality care.&nbsp\; North Metro Fire Rescue provides fire protection\, emergency medical services\, hazardous materials response and rescue services to our community. &nbsp\;Formed in 1946\, the district now covers 63 square miles with a population of approximately 103\,000 people including the City and County of Broomfield\, the City of Northglenn and unincorporated areas of Boulder\, Adams and Jefferson Counties.&nbsp\;&nbsp\;</span></em><br />\n&nbsp\;<br />\n
LOCATION:Broomfield County Commons 13th and Sheridan Broomfield\, CO 80020
UID:e.641.1717
SEQUENCE:3
DTSTAMP:20260420T050705Z
URL:http://business.broomfieldchamber.com/events/details/great-american-picnic-and-fireworks-extravaganza-07-04-2011-1717
END:VEVENT

END:VCALENDAR
