BEGIN:VCALENDAR
VERSION:2.0
PRODID:-//ChamberMaster//Event Calendar 2.0//EN
METHOD:PUBLISH
X-PUBLISHED-TTL:P3D
REFRESH-INTERVAL:P3D
CALSCALE:GREGORIAN
BEGIN:VEVENT
DTSTART:20110813T150000Z
DTEND:20110813T190000Z
X-MICROSOFT-CDO-ALLDAYEVENT:FALSE
SUMMARY:Great Kindness Family Event and Open House at the Ranch Reserve
DESCRIPTION:You are invited to join Bright Horizons at Ranch\n\nReserve in partnership with Kids for Peace for our\n\n\n	Great Kindness Family Event and Open House\n\n	 \n\n	Saturday\, August 13\, 2011\n\n	9:00 a.m. - 1:00 p.m.\n\n\n\n\nBring the family and help us celebrate The Great Kindness Challenge -one day devoted to performing as\n\nmany acts of kindness possible and a morning of fun\, inspiring activities  for the whole family.\n\n\n\n\n\nEvent Activities\n\n  Yard Sale of gently used children's items with all proceeds benefiting the Denver Bright Space\n\n  Acts of Kindness activities in our classrooms\n\n  Live musical entertainment by Beth Epley\n\n  Face painting and obstacle course\n\n  Complimentary fruit smoothies and healthy lunch
X-ALT-DESC;FMTTYPE=text/html:You are invited to join Bright Horizons at Ranch<br />\nReserve in partnership with Kids for Peace for our<br />\n<h3 style="color: blue">\n	<strong>Great Kindness Family Event and Open House</strong><br />\n	&nbsp\;</h3>\n<h3 style="color: blue">\n	Saturday\, August 13\, 2011</h3>\n<h3 style="color: blue">\n	<strong>9:00 a.m. - 1:00 p.m</strong>.</h3>\n<br />\n<br />\nBring the family and help us celebrate The Great Kindness Challenge -one day devoted to performing as<br />\nmany acts of kindness possible and a morning of fun\, inspiring activities&nbsp\; for the whole family.<br />\n<br />\n<br />\n<strong>Event Activities<br />\n&bull\; Yard Sale of gently used children&#39\;s items with all proceeds benefiting the Denver Bright Space<br />\n&bull\; Acts of Kindness activities in our classrooms<br />\n&bull\; Live musical entertainment by Beth Epley<br />\n&bull\; Face painting and obstacle course<br />\n&bull\; Complimentary fruit smoothies and healthy lunch</strong> 
LOCATION:Bright Horizons at the Ranch Reserve 11305 Decatur St. Westminster\, CO 80234
UID:e.641.2870
SEQUENCE:3
DTSTAMP:20260420T051706Z
URL:http://business.broomfieldchamber.com/events/details/great-kindness-family-event-and-open-house-at-the-ranch-reserve-08-13-2011-2870
END:VEVENT

END:VCALENDAR
