BEGIN:VCALENDAR
VERSION:2.0
PRODID:-//ChamberMaster//Event Calendar 2.0//EN
METHOD:PUBLISH
X-PUBLISHED-TTL:P3D
REFRESH-INTERVAL:P3D
CALSCALE:GREGORIAN
BEGIN:VEVENT
DTSTART;VALUE=DATE:20110108
DTEND;VALUE=DATE:20110109
TRANSP:TRANSPARENT
X-MICROSOFT-CDO-ALLDAYEVENT:TRUE
SUMMARY:Harlem Globetrotters
DESCRIPTION:www.harlemglobetrotters.com
X-ALT-DESC;FMTTYPE=text/html:www.harlemglobetrotters.com
LOCATION:1STBANK Center 11450 Broomfield Lane Broomfield\, CO 80021
UID:e.641.1255
SEQUENCE:3
DTSTAMP:20260420T142028Z
URL:http://business.broomfieldchamber.com/events/details/harlem-globetrotters-01-08-2011-1255
END:VEVENT

END:VCALENDAR
