BEGIN:VCALENDAR
VERSION:2.0
PRODID:-//ChamberMaster//Event Calendar 2.0//EN
METHOD:PUBLISH
X-PUBLISHED-TTL:P3D
REFRESH-INTERVAL:P3D
CALSCALE:GREGORIAN
BEGIN:VEVENT
DTSTART:20111023T230000Z
DTEND:20111024T001500Z
X-MICROSOFT-CDO-ALLDAYEVENT:FALSE
SUMMARY:Headache/Pain support group for children and teens
DESCRIPTION:Tonia Sabo\, MD (Child Neurologist and Headache Specialist)  leads this group designed to help children/teens communicate about their experiences with headache and pain.  Draw/Art Therapy\, guided stretching and music therapy integrated to experience alternative health welnness related  coping skills. \n\n\n\nGroup limited to 10 children. Please email drsabo@colroadomigraine.com to reserve a spot. Bi Monthly Sunday sessions.\n\n\n\n\n\nYoga\, aromatherapists\, meditation leaders are welcome to signup to lead a session.
X-ALT-DESC;FMTTYPE=text/html:Tonia Sabo\, MD (Child Neurologist and Headache Specialist) &nbsp\;leads this group designed to help children/teens communicate about their experiences with headache and pain. &nbsp\;Draw/Art Therapy\, guided stretching and music therapy integrated to experience alternative health welnness related &nbsp\;coping skills.&nbsp\;<br />\n<br />\nGroup limited to 10 children. Please email drsabo@colroadomigraine.com to reserve a spot. Bi Monthly Sunday sessions.<br />\n<br />\n<br />\nYoga\, aromatherapists\, meditation leaders are welcome to signup to lead a session.
LOCATION:Location: Colorado Pediatric Neurology and Headache/Colorado Mind and Body 340 E 1st Ave\, suite 205\, Broomfield\, Co 80020. Down the hill from the Broomfield Library. Cross streets: 1st St/Lamar. Major intersection nearby: Sheridan/120th.
UID:e.641.3087
SEQUENCE:3
DTSTAMP:20260420T005440Z
URL:http://business.broomfieldchamber.com/events/details/headache-pain-support-group-for-children-and-teens-10-23-2011-3087
END:VEVENT

END:VCALENDAR
