BEGIN:VCALENDAR
VERSION:2.0
PRODID:-//ChamberMaster//Event Calendar 2.0//EN
METHOD:PUBLISH
X-PUBLISHED-TTL:P3D
REFRESH-INTERVAL:P3D
CALSCALE:GREGORIAN
BEGIN:VEVENT
DTSTART:20120613T140000Z
DTEND:20120613T213000Z
X-MICROSOFT-CDO-ALLDAYEVENT:FALSE
SUMMARY:Headlight Restoration and Windshield Repair
DESCRIPTION:June 13 from 8 am-3:30 pm\n\n	\n\n	Headlight Restoration and Windshield Repair while you work.\n\n	\n		Mention this ad and receive an additional $5.00 off/offer expires 6/27/2012  \n	\n		 \n	Alternative View invites you to ask questions or repair those headlights and windshields. \n\n	Stop by!
X-ALT-DESC;FMTTYPE=text/html:<p class="MsoNormal" style="text-align: center\; line-height: normal\; margin: 0in 0in 0pt">\n	<strong><span style="font-size: 16px"><span style="font-family: verdana"><span style="color: #0000ff"><span style="mso-bidi-font-size: 10.5pt\; mso-fareast-font-family: 'Times New Roman'\; mso-bidi-font-family: Arial">June 13 from 8 am-3:30 pm</span></span></span></span></strong></p>\n<p align="center" class="MsoNormal" style="text-align: center\; line-height: normal\; margin: 0in 0in 0pt">\n	<br />\n	<span style="font-size: 16px"><span style="font-family: verdana"><span style="color: #0000ff"><span style="mso-bidi-font-size: 10.5pt\; mso-fareast-font-family: 'Times New Roman'\; mso-bidi-font-family: Arial">Headlight Restoration and Windshield Repair </span><span style="mso-bidi-font-size: 10.5pt\; mso-fareast-font-family: 'Times New Roman'\; mso-bidi-font-family: Arial">while you work.</span></span></span></span></p>\n<div style="text-align: center">\n	<p align="center" class="MsoNormal" style="text-align: center\; line-height: normal\; margin: 0in 0in 0pt">\n		<strong><span style="font-size: 16px"><span style="font-family: verdana"><span style="color: #0000ff"><span style="mso-bidi-font-size: 10.5pt\; mso-fareast-font-family: 'Times New Roman'\; mso-bidi-font-family: Arial">Mention this ad and receive an additional $5.00 off/offer expires 6/27/2012&nbsp\;</span></span>&nbsp\;</span></span></strong></p>\n	<p class="MsoNormal" style="text-align: center\; line-height: normal\; margin: 0in 0in 0pt">\n		<span style="font-size: 16px"><span style="font-family: verdana">&nbsp\;</span></span></p>\n	<span style="font-size: 16px"><span style="font-family: verdana"><b style="mso-bidi-font-weight: normal"><i style="mso-bidi-font-style: normal"><span style="line-height: 115%\; color: purple\; mso-bidi-font-size: 10.5pt\; mso-fareast-font-family: 'Times New Roman'\; mso-bidi-font-family: Arial\; mso-ansi-language: EN-US\; mso-fareast-language: EN-US\; mso-bidi-language: AR-SA">Alternative View</span></i></b><span style="line-height: 115%\; color: purple\; mso-bidi-font-size: 10.5pt\; mso-fareast-font-family: 'Times New Roman'\; mso-bidi-font-family: Arial\; mso-ansi-language: EN-US\; mso-fareast-language: EN-US\; mso-bidi-language: AR-SA"> </span><span style="line-height: 115%\; mso-bidi-font-size: 10.5pt\; mso-fareast-font-family: 'Times New Roman'\; mso-bidi-font-family: Arial\; mso-ansi-language: EN-US\; mso-fareast-language: EN-US\; mso-bidi-language: AR-SA"><font color="#000000">invites you to ask questions or repair those headlights and windshields.</font></span><span style="line-height: 115%\; color: purple\; mso-fareast-font-family: 'Times New Roman'\; mso-bidi-font-family: Arial\; mso-ansi-language: EN-US\; mso-fareast-language: EN-US\; mso-bidi-language: AR-SA">&nbsp\;</span><br />\n	<strong><span style="color: #0000ff"><span style="line-height: 115%\; mso-fareast-font-family: 'Times New Roman'\; mso-bidi-font-family: Arial\; mso-ansi-language: EN-US\; mso-fareast-language: EN-US\; mso-bidi-language: AR-SA">Stop by!</span></span></strong></span></span></div>\n<p align="center" class="MsoNormal" style="text-align: center\; line-height: normal\; margin: 0in 0in 0pt">\n	<span style="font-size: 10px"><span style="font-family: comic sans ms"><span style="color: purple\; mso-bidi-font-size: 10.5pt\; mso-fareast-font-family: 'Times New Roman'\; mso-bidi-font-family: Arial">&nbsp\;</span></span></span></p>\n
LOCATION:The Views 11800 Ridge Pkwy Broomfield\, CO 80021 V1 loading dock
UID:e.641.4275
SEQUENCE:3
DTSTAMP:20260419T132628Z
URL:http://business.broomfieldchamber.com/events/details/headlight-restoration-and-windshield-repair-06-13-2012-4275
END:VEVENT

END:VCALENDAR
