BEGIN:VCALENDAR
VERSION:2.0
PRODID:-//ChamberMaster//Event Calendar 2.0//EN
METHOD:PUBLISH
X-PUBLISHED-TTL:P3D
REFRESH-INTERVAL:P3D
CALSCALE:GREGORIAN
BEGIN:VEVENT
DTSTART:20110216T143000Z
DTEND:20110216T153000Z
X-MICROSOFT-CDO-ALLDAYEVENT:FALSE
SUMMARY:Heart Healthy Breakfast Fundraiser with Frank Shorter
DESCRIPTION:Enjoy a delicious breakfast and learn how Healthy Learning Paths impacts the hearts of children and families with\n\nOlympic Gold Medalist Frank Shorter!\n\n\n\nTours of the Stratford will be available at the end of the program.
X-ALT-DESC;FMTTYPE=text/html:<span style="font-size: 16px"><strong>Enjoy a delicious breakfast and learn how Healthy Learning Paths impacts the hearts of children and families with<br />\n<em>Olympic Gold Medalist Frank Shorter!</em></strong></span><br />\n<br />\n<span style="font-size: 14px">Tours of the Stratford will be available at the end of the program.</span>
LOCATION:The Stratford at Flatirons\, Community Life Room 400 Summit Blvd. Broomfield\, CO
UID:e.641.1311
SEQUENCE:3
DTSTAMP:20260420T125932Z
URL:http://business.broomfieldchamber.com/events/details/heart-healthy-breakfast-fundraiser-with-frank-shorter-02-16-2011-1311
END:VEVENT

END:VCALENDAR
