BEGIN:VCALENDAR
VERSION:2.0
PRODID:-//ChamberMaster//Event Calendar 2.0//EN
METHOD:PUBLISH
X-PUBLISHED-TTL:P3D
REFRESH-INTERVAL:P3D
CALSCALE:GREGORIAN
BEGIN:VEVENT
DTSTART:20110316T010000Z
DTEND:20110316T020000Z
X-MICROSOFT-CDO-ALLDAYEVENT:FALSE
SUMMARY:Heavy Snoring? Maybe It's Sleep Apnea. Seminar @ Buffalo Ridge
DESCRIPTION:Sleep apnea causes you to stop breathing during sleep. If left untreated\, you're three times more likely to have a stroke or heart attack. Come hear a board-certified specialist in sleep and lung problems describe the latest approaches for detecting and treating this serious condition.\n\n\n\nRSVP: Reservations required. Call 303-441-0580 or email publicinformation@bch.org
X-ALT-DESC;FMTTYPE=text/html:Sleep apnea causes you to stop breathing during sleep. If left untreated\, you&#39\;re three times more likely to have a stroke or heart attack. Come hear a board-certified specialist in sleep and lung problems describe the latest approaches for detecting and treating this serious condition.<br />\n<br />\nRSVP: Reservations required. Call 303-441-0580 or email publicinformation@bch.org<br />\n<br />\n
LOCATION:Omni Interlocken Spa & Resort\, 500 Interlocken Blvd.\, Broomfield
UID:e.641.1363
SEQUENCE:3
DTSTAMP:20260420T110921Z
URL:http://business.broomfieldchamber.com/events/details/heavy-snoring-maybe-it-s-sleep-apnea-seminar-buffalo-ridge-03-15-2011-1363
END:VEVENT

END:VCALENDAR
