BEGIN:VCALENDAR
VERSION:2.0
PRODID:-//ChamberMaster//Event Calendar 2.0//EN
METHOD:PUBLISH
X-PUBLISHED-TTL:P3D
REFRESH-INTERVAL:P3D
CALSCALE:GREGORIAN
BEGIN:VEVENT
DTSTART:20120622T120000Z
DTEND:20120622T200000Z
X-MICROSOFT-CDO-ALLDAYEVENT:FALSE
SUMMARY:Hertz Charity Golf event at Arrowhead
DESCRIPTION:Join us for a day filled with fun and golfing that benefits Big Brothers Big Sisters of Colorado.\n\n\n\nRegistration begins at 6:00 AM\n\nShotgun start at 7:30 AM\n\nBest-ball scramble format\n\n\n\nGolf fee $130 per player\n\nBreakfast and lunch will be served along with drinks and snacks.\n\nArrowhead bag tag\, range balls\, putting green provided.\n\nPlayers registration by June 1\, 2012.\n\n\n\nContact Mike Innis @ 303-513-6869 or minnis@hertz.com for more information
X-ALT-DESC;FMTTYPE=text/html:<span style="font-size: 16px"><span style="font-family: verdana"><strong>Join us for a day filled with fun and golfing that benefits Big Brothers Big Sisters of Colorado.</strong><br />\n<br />\nRegistration begins at 6:00 AM<br />\nShotgun start at 7:30 AM<br />\nBest-ball scramble format<br />\n<br />\nGolf fee $130 per player<br />\nBreakfast and lunch will be served along with drinks and snacks.<br />\nArrowhead bag tag\, range balls\, putting green provided.<br />\nPlayers registration by June 1\, 2012.<br />\n<br />\nContact Mike Innis @ 303-513-6869 or <a href="mailto:minnis@hertz.com">minnis@hertz.com</a> for more information</span></span><br />\n<br />\n
LOCATION:Arrowhead Golf Course 10850 W. Sundown Trail Littleton\, CO 80125 303-973-9614
UID:e.641.3993
SEQUENCE:3
DTSTAMP:20260419T144921Z
URL:http://business.broomfieldchamber.com/events/details/hertz-charity-golf-event-at-arrowhead-06-22-2012-3993
END:VEVENT

END:VCALENDAR
