BEGIN:VCALENDAR
VERSION:2.0
PRODID:-//ChamberMaster//Event Calendar 2.0//EN
METHOD:PUBLISH
X-PUBLISHED-TTL:P3D
REFRESH-INTERVAL:P3D
CALSCALE:GREGORIAN
BEGIN:VEVENT
DTSTART:20101216T020000Z
DTEND:20101216T040000Z
X-MICROSOFT-CDO-ALLDAYEVENT:FALSE
SUMMARY:Holiday Benefit Concert featuring Denver Municipal Band
DESCRIPTION:Enjoy this holiday tradition! Admission is free with a donation to FISH Foodbank.
X-ALT-DESC;FMTTYPE=text/html:Enjoy this holiday tradition! Admission is free with a donation to FISH Foodbank.
LOCATION:Broomfield Auditorium 3 Community Park Road
UID:e.641.1230
SEQUENCE:3
DTSTAMP:20260420T155638Z
URL:http://business.broomfieldchamber.com/events/details/holiday-benefit-concert-featuring-denver-municipal-band-12-15-2010-1230
END:VEVENT

END:VCALENDAR
