BEGIN:VCALENDAR
VERSION:2.0
PRODID:-//ChamberMaster//Event Calendar 2.0//EN
METHOD:PUBLISH
X-PUBLISHED-TTL:P3D
REFRESH-INTERVAL:P3D
CALSCALE:GREGORIAN
BEGIN:VEVENT
DTSTART:20111215T020000Z
DTEND:20111215T040000Z
X-MICROSOFT-CDO-ALLDAYEVENT:FALSE
SUMMARY:Holiday Benefit Concert with Denver Municipal Band
DESCRIPTION:The City and County of Broomfield Cultural Affairs Division invites the public to attend a performance with a purpose benefitting FISH Food Bank\, Wednesday\, December 14th 7pm at the Broomfield Auditorium.\n\n\n\nJoin us as we celebrate the Season with our 5th Annual Holiday Concert featuring the Denver Municipal Band.\n\n\n\nAdmission is free but in the spirit of the season\, the audience is invited to bring a toy or item of canned food.
X-ALT-DESC;FMTTYPE=text/html:<span style="font-family: verdana"><span style="font-size: 14px">The City and County of Broomfield Cultural Affairs Division invites the public to attend a performance with a purpose benefitting FISH Food Bank\, Wednesday\, December 14th 7pm at the Broomfield Auditorium.<br />\n<br />\nJoin us as we celebrate the Season with our 5th Annual Holiday Concert featuring the Denver Municipal Band.<br />\n<br />\nAdmission is free but in the spirit of the season\, the audience is invited to bring a toy or item of canned food.</span></span>
LOCATION:Broomfield Auditorium
UID:e.641.3110
SEQUENCE:3
DTSTAMP:20260419T235709Z
URL:http://business.broomfieldchamber.com/events/details/holiday-benefit-concert-with-denver-municipal-band-12-14-2011-3110
END:VEVENT

END:VCALENDAR
