BEGIN:VCALENDAR
VERSION:2.0
PRODID:-//ChamberMaster//Event Calendar 2.0//EN
METHOD:PUBLISH
X-PUBLISHED-TTL:P3D
REFRESH-INTERVAL:P3D
CALSCALE:GREGORIAN
BEGIN:VEVENT
DTSTART:20101208T160000Z
DTEND:20101209T000000Z
X-MICROSOFT-CDO-ALLDAYEVENT:FALSE
SUMMARY:Holiday Shuttle to Flatirons Mall
DESCRIPTION:The Stratford Shuttle will run every two hours.  Park in our climate controlled garage.  Complimentary gift wrapping and holiday refreshments.
X-ALT-DESC;FMTTYPE=text/html:The Stratford Shuttle will run every two hours.  Park in our climate controlled garage.  Complimentary gift wrapping and holiday refreshments.
LOCATION:Stratford at Flatirons\, 400 Summit Blvd\, Broomfield 80021
UID:e.641.1250
SEQUENCE:3
DTSTAMP:20260420T155915Z
URL:http://business.broomfieldchamber.com/events/details/holiday-shuttle-to-flatirons-mall-12-08-2010-1250
END:VEVENT

END:VCALENDAR
