BEGIN:VCALENDAR
VERSION:2.0
PRODID:-//ChamberMaster//Event Calendar 2.0//EN
METHOD:PUBLISH
X-PUBLISHED-TTL:P3D
REFRESH-INTERVAL:P3D
CALSCALE:GREGORIAN
BEGIN:VEVENT
DTSTART:20101216T210000Z
DTEND:20101216T230000Z
X-MICROSOFT-CDO-ALLDAYEVENT:FALSE
SUMMARY:Holiday Tea and Fashion Show
DESCRIPTION:Enjoy tea sandwiches\, desserts and teas from around the world.  Special entertainment.\n\n\n\nHoliday attire by Coldwater Creek\, Flatirons Mall
X-ALT-DESC;FMTTYPE=text/html:Enjoy tea sandwiches\, desserts and teas from around the world.  Special entertainment.\n<br>\n<br>Holiday attire by Coldwater Creek\, Flatirons Mall
LOCATION:Stratford at Flatirons\, 400 Summit Blvd\, Broomfield 80021
UID:e.641.1248
SEQUENCE:3
DTSTAMP:20260420T155807Z
URL:http://business.broomfieldchamber.com/events/details/holiday-tea-and-fashion-show-12-16-2010-1248
END:VEVENT

END:VCALENDAR
