BEGIN:VCALENDAR
VERSION:2.0
PRODID:-//ChamberMaster//Event Calendar 2.0//EN
METHOD:PUBLISH
X-PUBLISHED-TTL:P3D
REFRESH-INTERVAL:P3D
CALSCALE:GREGORIAN
BEGIN:VEVENT
DTSTART:20111210T193000Z
DTEND:20111210T213000Z
X-MICROSOFT-CDO-ALLDAYEVENT:FALSE
SUMMARY:Holiday Tea at Coldwater Creek
DESCRIPTION:Please join us for a Holiday Tea at Coldwater Creek \, Saturday\, December 10th.  We have two seating times.\n\nOne at 12:30pm and 2:30pm. Space is limited so call us (720-887-3033) to reserve your seat today.\n\nSandy White\, originally from Kent\, England\, will demonstrate how to prepare and serve a proper cup of English Tea.
X-ALT-DESC;FMTTYPE=text/html:Please join us for a Holiday Tea at Coldwater Creek&nbsp\;\, Saturday\, December 10th.&nbsp\; We have two seating times.<br />\nOne at 12:30pm and 2:30pm. Space is limited so call us (720-887-3033) to reserve your seat today.<br />\nSandy White\, originally from Kent\, England\, will demonstrate how to prepare and serve a proper cup of English Tea.
LOCATION:Coldwater Creek\, Flatirons Mall\, Broomfield \,Co\, 80021
UID:e.641.3129
SEQUENCE:3
DTSTAMP:20260419T223123Z
URL:http://business.broomfieldchamber.com/events/details/holiday-tea-at-coldwater-creek-12-10-2011-3129
END:VEVENT

END:VCALENDAR
