BEGIN:VCALENDAR
VERSION:2.0
PRODID:-//ChamberMaster//Event Calendar 2.0//EN
METHOD:PUBLISH
X-PUBLISHED-TTL:P3D
REFRESH-INTERVAL:P3D
CALSCALE:GREGORIAN
BEGIN:VEVENT
DTSTART:20110911T000000Z
DTEND:20110911T040000Z
X-MICROSOFT-CDO-ALLDAYEVENT:FALSE
SUMMARY:Honoring Our Heroes
DESCRIPTION:2nd Annual Honoring Our Hero's at Rotors of the Rockies\n\n11915 Airport Way\, Broomfield. \n\n\n\nEnjoy a casual evening with a roast pig bar-b-que and dancing to the Reville3 the The Red Hot Tomatoes Dance Orchestra.
X-ALT-DESC;FMTTYPE=text/html:<span style="font-family: tahoma"><span style="font-size: 16px">2nd Annual Honoring Our Hero&#39\;s at Rotors of the Rockies<br />\n11915 Airport Way\, Broomfield.&nbsp\;<br />\n<br />\n<strong>Enjoy a casual evening with a roast pig bar-b-que and dancing to the Reville3 the The Red Hot Tomatoes Dance Orchestra.</strong></span></span>
LOCATION:Rotors of the Rockies\, 11915 Airport Way\, Broomfield
UID:e.641.2899
SEQUENCE:3
DTSTAMP:20260420T021107Z
URL:http://business.broomfieldchamber.com/events/details/honoring-our-heroes-09-10-2011-2899
END:VEVENT

END:VCALENDAR
