BEGIN:VCALENDAR
VERSION:2.0
PRODID:-//ChamberMaster//Event Calendar 2.0//EN
METHOD:PUBLISH
X-PUBLISHED-TTL:P3D
REFRESH-INTERVAL:P3D
CALSCALE:GREGORIAN
BEGIN:VEVENT
DTSTART:20110608T003000Z
DTEND:20110608T023000Z
X-MICROSOFT-CDO-ALLDAYEVENT:FALSE
SUMMARY:How Money Works:FREE DINNER SEMINAR
DESCRIPTION:In this informative seminar you'll learn how to apply financial principals to grow AND PROTECT you money for college funding\, retirement savings\, or simply wealth accumulation\, with money you never even knew you had!\n\n\n\nAnyone is welcome\, this is an absolutely FREE event with complimentry dinner.\n\n\n\nPlease RSVP by noon on June 7th to 720-271-1726
X-ALT-DESC;FMTTYPE=text/html:<span style="font-size: 16px"><span style="font-family: tahoma">In this informative seminar you&#39\;ll learn how to apply financial principals to grow AND PROTECT you money for college funding\, retirement savings\, or simply wealth accumulation\, with money you never even knew you had!<br />\n<br />\n<strong>Anyone is welcome\, this is an absolutely FREE event with complimentry dinner.</strong><br />\n<br />\nPlease RSVP by noon on&nbsp\;June 7th to 720-271-1726</span></span>
LOCATION:Bar Louie: 10661 Westminster Blvd.\, Westminster\, CO 80020
UID:e.641.1488
SEQUENCE:3
DTSTAMP:20260420T063457Z
URL:http://business.broomfieldchamber.com/events/details/how-money-works-free-dinner-seminar-06-07-2011-1488
END:VEVENT

END:VCALENDAR
