BEGIN:VCALENDAR
VERSION:2.0
PRODID:-//ChamberMaster//Event Calendar 2.0//EN
METHOD:PUBLISH
X-PUBLISHED-TTL:P3D
REFRESH-INTERVAL:P3D
CALSCALE:GREGORIAN
BEGIN:VEVENT
DTSTART:20110412T003000Z
DTEND:20110412T023000Z
X-MICROSOFT-CDO-ALLDAYEVENT:FALSE
SUMMARY:"How Money Works" seminar by Five Rings Financial - Scott Cobb
DESCRIPTION:"How Money Works" seminar. This is an informative seminar where you will learn how to apply financial principals to grow and protect your money for college funding\, retirement savings\, or simply wealth accumulation\, with money you never even know you had!
X-ALT-DESC;FMTTYPE=text/html:"How Money Works" seminar. This is an informative seminar where you will learn how to apply financial principals to grow and protect your money for college funding\, retirement savings\, or simply wealth accumulation\, with money you never even know you had!
LOCATION:Rock Bottom Brewery 10633 Westmister Blvd #900 Westminster\, CO 80020
UID:e.641.1417
SEQUENCE:3
DTSTAMP:20260420T093622Z
URL:http://business.broomfieldchamber.com/events/details/how-money-works-seminar-by-five-rings-financial-scott-cobb-04-11-2011-1417
END:VEVENT

END:VCALENDAR
