BEGIN:VCALENDAR
VERSION:2.0
PRODID:-//ChamberMaster//Event Calendar 2.0//EN
METHOD:PUBLISH
X-PUBLISHED-TTL:P3D
REFRESH-INTERVAL:P3D
CALSCALE:GREGORIAN
BEGIN:VEVENT
DTSTART:20110331T190000Z
DTEND:20110331T220000Z
X-MICROSOFT-CDO-ALLDAYEVENT:FALSE
SUMMARY:"How to Build a Dynamic Profitable Business Model"
DESCRIPTION:"How to Build a Dynamic Profitable Business Model"\n\nThis skillshop is designed to train the small to mid size business leader in the critical elements required to create a dynamic and profitable business model.  Participants will be exposed to 22 powerful Business Models that will enhance their company's growth and profitability.  Participants will receive a Sustainable Business Growth Modeling tool that will serve them over and over in the years to come.\n\nThis 3-hour event is the equivalent of 10-$15\,000.00 consulting engagement!
X-ALT-DESC;FMTTYPE=text/html:"How to Build a Dynamic Profitable Business Model"\n<br>This skillshop is designed to train the small to mid size business leader in the critical elements required to create a dynamic and profitable business model.  Participants will be exposed to 22 powerful Business Models that will enhance their company's growth and profitability.  Participants will receive a Sustainable Business Growth Modeling tool that will serve them over and over in the years to come.\n<br>This 3-hour event is the equivalent of 10-$15\,000.00 consulting engagement!
LOCATION:A Spice of Life Event Center Address: 5706 Arapahoe Ave. Boulder\, CO 80303 (303-444-3452) Google Map
UID:e.641.1390
SEQUENCE:3
DTSTAMP:20260420T110555Z
URL:http://business.broomfieldchamber.com/events/details/how-to-build-a-dynamic-profitable-business-model-03-31-2011-1390
END:VEVENT

END:VCALENDAR
