BEGIN:VCALENDAR
VERSION:2.0
PRODID:-//ChamberMaster//Event Calendar 2.0//EN
METHOD:PUBLISH
X-PUBLISHED-TTL:P3D
REFRESH-INTERVAL:P3D
CALSCALE:GREGORIAN
BEGIN:VEVENT
DTSTART:20110428T190000Z
DTEND:20110428T220000Z
X-MICROSOFT-CDO-ALLDAYEVENT:FALSE
SUMMARY:"How to Drive Strategic Revenue Growth into Your Company!" Skillshop
DESCRIPTION:"How to Drive Strategic Revenue Growth into Your Company!"\n\nThe Sustainable Business Revenue Growth Skillshop provides a proven formula\, method and tool to re-design your company's revenue growth model so that you build a solid foundation for growing your profitable revenue month after month.
X-ALT-DESC;FMTTYPE=text/html:"How to Drive Strategic Revenue Growth into Your Company!"\n<br>The Sustainable Business Revenue Growth Skillshop provides a proven formula\, method and tool to re-design your company's revenue growth model so that you build a solid foundation for growing your profitable revenue month after month.
LOCATION:Westin Hotel & Conference Center 10600 Westminster Blvd.\, Westminster\, CO 80020 (303-410-5000) Google Map
UID:e.641.1393
SEQUENCE:3
DTSTAMP:20260420T093913Z
URL:http://business.broomfieldchamber.com/events/details/how-to-drive-strategic-revenue-growth-into-your-company-skillshop-04-28-2011-1393
END:VEVENT

END:VCALENDAR
