BEGIN:VCALENDAR
VERSION:2.0
PRODID:-//ChamberMaster//Event Calendar 2.0//EN
METHOD:PUBLISH
X-PUBLISHED-TTL:P3D
REFRESH-INTERVAL:P3D
CALSCALE:GREGORIAN
BEGIN:VEVENT
DTSTART:20111025T003000Z
DTEND:20111025T023000Z
X-MICROSOFT-CDO-ALLDAYEVENT:FALSE
SUMMARY:Ice Cream Social DQ Broomfield
DESCRIPTION:Free Ice Cream Social at Dairy Queen Broomfield\n\nMonday October 24\n\n6:30pm-8:30pm\n\nDairy Queen Broomfield 7634 US Highway 287 (120th Ave)\n\nCome in for a free $3.00 coupon for each member of your group\n\n\n\nSponsored by:\n\nModern Woodmen\n\nMark W. Kennedy\n\n720-979-2041
X-ALT-DESC;FMTTYPE=text/html:<strong>Free Ice Cream Social at Dairy Queen Broomfield</strong><br />\nMonday October 24<br />\n6:30pm-8:30pm<br />\nDairy Queen Broomfield 7634 US Highway 287 (120th Ave)<br />\nCome in for a free $3.00 coupon for each member of your group<br />\n<br />\nSponsored by:<br />\nModern Woodmen<br />\nMark W. Kennedy<br />\n720-979-2041
LOCATION:Dairy Queen Broomfield 7634 US Highway 287
UID:e.641.3098
SEQUENCE:3
DTSTAMP:20260420T021553Z
URL:http://business.broomfieldchamber.com/events/details/ice-cream-social-dq-broomfield-10-24-2011-3098
END:VEVENT

END:VCALENDAR
