BEGIN:VCALENDAR
VERSION:2.0
PRODID:-//ChamberMaster//Event Calendar 2.0//EN
METHOD:PUBLISH
X-PUBLISHED-TTL:P3D
REFRESH-INTERVAL:P3D
CALSCALE:GREGORIAN
BEGIN:VEVENT
DTSTART:20120520T190000Z
DTEND:20120520T230000Z
X-MICROSOFT-CDO-ALLDAYEVENT:FALSE
SUMMARY:In the Along by Lighthouse Writers Workshop & The School of BNC
DESCRIPTION:Lighthouse Writers Workshop and The School of BNC have conceived a\n\ncollaboration of young writers\, choreographers\, and dancers who have worked\n\ntogether to create original works. As two organizations that believe in the\n\ntransformative power of art and the creative talent of young people\, we are excited to pair up these young artists to create original works of poetry and dance. We feel it is a natural fit to offer artists the opportunity to gain inspiration across disciplines\, and\n\nto offer the community the chance to experience their work in a live performance.\n\nAudience members will experience the multi-dimensional performance as they see the dance and hear the music and spoken word.
X-ALT-DESC;FMTTYPE=text/html:Lighthouse Writers Workshop and The School of BNC have conceived a<br />\ncollaboration of young writers\, choreographers\, and dancers who have worked<br />\ntogether to create original works. As two organizations that believe in the<br />\ntransformative power of art and the creative talent of young people\, we are excited to pair up these young artists to create original works of poetry and dance. We feel it is a natural fit to offer artists the opportunity to gain inspiration across disciplines\, and<br />\nto offer the community the chance to experience their work in a live performance.<br />\nAudience members will experience the multi-dimensional performance as they see&nbsp\;the dance and hear the music and spoken word.
LOCATION:Broomfield Auditorium 3 Community Park Road Broomfield CO 80020
UID:e.641.4151
SEQUENCE:3
DTSTAMP:20260419T144904Z
URL:http://business.broomfieldchamber.com/events/details/in-the-along-by-lighthouse-writers-workshop-the-school-of-bnc-05-20-2012-4151
END:VEVENT

END:VCALENDAR
