BEGIN:VCALENDAR
VERSION:2.0
PRODID:-//ChamberMaster//Event Calendar 2.0//EN
METHOD:PUBLISH
X-PUBLISHED-TTL:P3D
REFRESH-INTERVAL:P3D
CALSCALE:GREGORIAN
BEGIN:VEVENT
DTSTART:20101016T160000Z
DTEND:20101016T220000Z
X-MICROSOFT-CDO-ALLDAYEVENT:FALSE
SUMMARY:Indoor Driving Range and Golf Fitness Center GRAND OPENING
DESCRIPTION:Driving Force is a new indoor range and golf fitness center geared to take your golf game the next level.  The professional amenities we offer are:  \n\n5 indoor hitting bays\n\n900 square foot putting green\n\nshort game area and sand trap\n\ngolf fitness training area\n\n\n\nServices:\n\nMemberships-Individual\, Family\, Corporate\n\nVideo golf instruction\n\nJunior golf camps\n\nClub fitting\n\nMental game evaluation
X-ALT-DESC;FMTTYPE=text/html:Driving Force is a new indoor range and golf fitness center geared to take your golf game the next level.  The professional amenities we offer are:  \n<br>5 indoor hitting bays\n<br>900 square foot putting green\n<br>short game area and sand trap\n<br>golf fitness training area\n<br>\n<br>Services:\n<br>Memberships-Individual\, Family\, Corporate\n<br>Video golf instruction\n<br>Junior golf camps\n<br>Club fitting\n<br>Mental game evaluation
LOCATION:11705 Teller St. Broomfield\, CO 80020
UID:e.641.1217
SEQUENCE:3
DTSTAMP:20260420T191008Z
URL:http://business.broomfieldchamber.com/events/details/indoor-driving-range-and-golf-fitness-center-grand-opening-10-16-2010-1217
END:VEVENT

END:VCALENDAR
