BEGIN:VCALENDAR
VERSION:2.0
PRODID:-//ChamberMaster//Event Calendar 2.0//EN
METHOD:PUBLISH
X-PUBLISHED-TTL:P3D
REFRESH-INTERVAL:P3D
CALSCALE:GREGORIAN
BEGIN:VEVENT
DTSTART:20120719T233000Z
DTEND:20120720T030000Z
X-MICROSOFT-CDO-ALLDAYEVENT:FALSE
SUMMARY:Indulge for CASA!
DESCRIPTION:Indulge for CASA gives guests the opportunity to sample 15 different Balistreri wines\, indulge on gourmet hors d'oeuvres\, wood-fired pizza and desserts\, and bid on more than 80 premier silent and live auction items while mingling with other individuals committed to helping children who have been abused and neglected.\n\n	\n\n	Enter a raffle to win a Hawaii Dream Vacation!\n\n	\n\n	To find out more information\, or to purchase tickets\, go to www.casa17th.org or call 303-655-3927
X-ALT-DESC;FMTTYPE=text/html:<p class="style76">\n	<span style="font-size: 14px"><span style="font-family: verdana">Indulge for CASA gives guests the opportunity to sample 15 different Balistreri wines\, indulge on gourmet hors d&rsquo\;oeuvres\, wood-fired pizza and desserts\, and bid on more than 80 premier silent and live auction items while mingling with other individuals committed to helping children who have been abused and neglected.<br />\n	<br />\n	Enter a raffle to win a Hawaii Dream Vacation!<br />\n	<br />\n	To find out more information\, or to purchase tickets\, go to <a href="http://www.casa17th.org">www.casa17th.org</a> or call 303-655-3927</span></span></p>\n
LOCATION:J.A. Balistreri Vineyards 1946 E. 66th Ave Denver\, CO 80229
UID:e.641.4299
SEQUENCE:3
DTSTAMP:20260419T132042Z
URL:http://business.broomfieldchamber.com/events/details/indulge-for-casa-07-19-2012-4299
END:VEVENT

END:VCALENDAR
