BEGIN:VCALENDAR
VERSION:2.0
PRODID:-//ChamberMaster//Event Calendar 2.0//EN
METHOD:PUBLISH
X-PUBLISHED-TTL:P3D
REFRESH-INTERVAL:P3D
CALSCALE:GREGORIAN
BEGIN:VEVENT
DTSTART:20100526T180500Z
DTEND:20100526T210000Z
X-MICROSOFT-CDO-ALLDAYEVENT:FALSE
SUMMARY:Insurance Essentials for Business
DESCRIPTION:Erin Kristofco will lecture and provide materials on Insurance Essentials for Business.  Following the lecture\, insurance providers will hand out information and answer questions regarding insurance for your business.
X-ALT-DESC;FMTTYPE=text/html:Erin Kristofco will lecture and provide materials on Insurance Essentials for Business.  Following the lecture\, insurance providers will hand out information and answer questions regarding insurance for your business.
LOCATION:Small Business Development Center\, University of Colorado at Colorado Springs\, 1420 Austin Bluffs Parkway\, Colorado Springs\, CO 80933
UID:e.641.1084
SEQUENCE:3
DTSTAMP:20260421T023543Z
URL:http://business.broomfieldchamber.com/events/details/insurance-essentials-for-business-05-26-2010-1084
END:VEVENT

END:VCALENDAR
