BEGIN:VCALENDAR
VERSION:2.0
PRODID:-//ChamberMaster//Event Calendar 2.0//EN
METHOD:PUBLISH
X-PUBLISHED-TTL:P3D
REFRESH-INTERVAL:P3D
CALSCALE:GREGORIAN
BEGIN:VEVENT
DTSTART:20110917T020000Z
DTEND:20110918T220000Z
X-MICROSOFT-CDO-ALLDAYEVENT:FALSE
SUMMARY:Intersection by Ballet Nouveau Colorado
DESCRIPTION:Ballet Nouveau Colorado (BNC)\, in collaboration with Lighthouse Writers Workshop\, presents BNC's opening production of Season 10\, Intersection. This profound multimedia full-length work explores the journey into suburban America at a moment when life is turned upside-down. Poetry\, dance and film converge in a singular breathtaking experience. Season subscriptions\, group rate and single tickets are available.\n\n\n\n\n\n\n\nDates: Sept. 16-18 & 23-25\n\n\n\nTime: Fri. & Sat. at 8pm Sun. at 2pm\n\n\n\nWhere: Sept. 16-18: Lakewood Cultural Center\n\n\n\nSept. 23-25: Performing Arts Complex at PNC\n\n\n\nCost: $17-$44\n\n\n\nLearn more & buy tickets: www.bncdance.com or 303.466.5685
X-ALT-DESC;FMTTYPE=text/html:Ballet Nouveau Colorado (BNC)\, in collaboration with Lighthouse Writers Workshop\, presents BNC&#39\;s opening production of Season 10\, Intersection. This profound multimedia full-length work explores the journey into suburban America at a moment when life is turned upside-down. Poetry\, dance and film converge in a singular breathtaking experience. Season subscriptions\, group rate and single tickets are available.<br />\n<br />\n<br />\n<br />\nDates: Sept. 16-18 &amp\; 23-25<br />\n<br />\nTime: Fri. &amp\; Sat. at 8pm Sun. at 2pm<br />\n<br />\nWhere: Sept. 16-18: Lakewood Cultural Center<br />\n<br />\nSept. 23-25: Performing Arts Complex at PNC<br />\n<br />\nCost: $17-$44<br />\n<br />\nLearn more &amp\; buy tickets: www.bncdance.com or 303.466.5685<br />\n<br />\n
LOCATION:
UID:e.641.2892
SEQUENCE:3
DTSTAMP:20260420T022457Z
URL:http://business.broomfieldchamber.com/events/details/intersection-by-ballet-nouveau-colorado-09-16-2011-2892
END:VEVENT

END:VCALENDAR
