BEGIN:VCALENDAR
VERSION:2.0
PRODID:-//ChamberMaster//Event Calendar 2.0//EN
METHOD:PUBLISH
X-PUBLISHED-TTL:P3D
REFRESH-INTERVAL:P3D
CALSCALE:GREGORIAN
BEGIN:VEVENT
DTSTART:20110319T010000Z
DTEND:20110319T023000Z
X-MICROSOFT-CDO-ALLDAYEVENT:FALSE
SUMMARY:Introduction to Homeopathy
DESCRIPTION:Learn the power of homeopathy. In this free introduction learn what homeopathy is\, how and why homopathy is effective and some homeopathic tips you can use in your everyday life.\n\n\n\nHomeopathy is a system of medicines that uses select natural medicines to treat the whole person.  Homeopathic treatment corrects the body's underlying imbalance\, resulting in relief from multiple symptoms.\n\n\n\nBENEFITS OF HOMEOPATHY INCLUDE\n\n\n\nSimple Solutions to complex health problems.\n\nSafe for infants and elderly.\n\nNo prescription drug interactions.\n\nLow cost medicine.\n\nLasting improvements in overall health.
X-ALT-DESC;FMTTYPE=text/html:Learn the power of homeopathy. In this free introduction learn what homeopathy is\, how and why homopathy is effective and some homeopathic tips you can use in your everyday life.\n<br>\n<br>Homeopathy is a system of medicines that uses select natural medicines to treat the whole person.  Homeopathic treatment corrects the body's underlying imbalance\, resulting in relief from multiple symptoms.\n<br>\n<br>BENEFITS OF HOMEOPATHY INCLUDE\n<br>\n<br>Simple Solutions to complex health problems.\n<br>Safe for infants and elderly.\n<br>No prescription drug interactions.\n<br>Low cost medicine.\n<br>Lasting improvements in overall health.\n<br>
LOCATION:Uniquely Natural 409 S. Public Road Suite B Lafayette\, CO 80026
UID:e.641.1370
SEQUENCE:3
DTSTAMP:20260420T110540Z
URL:http://business.broomfieldchamber.com/events/details/introduction-to-homeopathy-03-18-2011-1370
END:VEVENT

END:VCALENDAR
