BEGIN:VCALENDAR
VERSION:2.0
PRODID:-//ChamberMaster//Event Calendar 2.0//EN
METHOD:PUBLISH
X-PUBLISHED-TTL:P3D
REFRESH-INTERVAL:P3D
CALSCALE:GREGORIAN
BEGIN:VEVENT
DTSTART:20110714T230000Z
DTEND:20110715T020000Z
X-MICROSOFT-CDO-ALLDAYEVENT:FALSE
SUMMARY:It's a Fashion Affair!
DESCRIPTION:A unique shopping event for women of ALL AGES on any budget!\n\nThere will be local designer clothing\, jewelry and other amazing accessories!\n\nOther retailers and boutiques will be participating as well!\n\n\n\nCome find something UNIQUE at this event and support your local artists!!
X-ALT-DESC;FMTTYPE=text/html:<span style="font-size: 16px"><span style="font-family: verdana">A unique shopping event for women of ALL AGES on any budget!<br />\nThere will be local designer clothing\, jewelry and other amazing accessories!<br />\nOther retailers and boutiques will be participating as well!<br />\n<br />\n<strong>Come find something UNIQUE at this event and support your local artists!!</strong></span></span> 
LOCATION:Noah's Event Center 11885 Bradburn Blvd
UID:e.641.2721
SEQUENCE:3
DTSTAMP:20260420T051000Z
URL:http://business.broomfieldchamber.com/events/details/it-s-a-fashion-affair-07-14-2011-2721
END:VEVENT

END:VCALENDAR
