BEGIN:VCALENDAR
VERSION:2.0
PRODID:-//ChamberMaster//Event Calendar 2.0//EN
METHOD:PUBLISH
X-PUBLISHED-TTL:P3D
REFRESH-INTERVAL:P3D
CALSCALE:GREGORIAN
BEGIN:VEVENT
DTSTART:20110915T230000Z
DTEND:20110916T020000Z
X-MICROSOFT-CDO-ALLDAYEVENT:FALSE
SUMMARY:it's a FASHION AFFAIR!!!
DESCRIPTION:A very unique and unforgettable shopping event for women of all ages! This event showcases 25 local fashion retailers and designers from the Denver area! WE GUARANTEE you will find something you can't live without! We will be providing wine and cheese and fashions to please!! Stop in\, we look forward to shopping with you!!\n\n\n\nwww.topboutiqueshop.com
X-ALT-DESC;FMTTYPE=text/html:A very unique and unforgettable shopping event for women of all ages! This event showcases 25 local fashion retailers and designers from the Denver area! WE GUARANTEE you will find something you can&#39\;t live without! We will be providing wine and cheese and fashions to please!! Stop in\, we look forward to shopping with you!!<br />\n<br />\n<a href="http://www.topboutiqueshop.com">www.topboutiqueshop.com</a>
LOCATION:NOAH'S EVENT CENTER at Bradburn 11885 Bradburn Blvd Westminster\, CO 80020
UID:e.641.2872
SEQUENCE:3
DTSTAMP:20260420T022022Z
URL:http://business.broomfieldchamber.com/events/details/it-s-a-fashion-affair-09-15-2011-2872
END:VEVENT

END:VCALENDAR
