BEGIN:VCALENDAR
VERSION:2.0
PRODID:-//ChamberMaster//Event Calendar 2.0//EN
METHOD:PUBLISH
X-PUBLISHED-TTL:P3D
REFRESH-INTERVAL:P3D
CALSCALE:GREGORIAN
BEGIN:VEVENT
DTSTART:20110422T013000Z
DTEND:20110422T033000Z
X-MICROSOFT-CDO-ALLDAYEVENT:FALSE
SUMMARY:John Denver's Rocky Mountain High @ 1STBANK Center
DESCRIPTION:
X-ALT-DESC;FMTTYPE=text/html:
LOCATION:1STBANK Center
UID:e.641.1398
SEQUENCE:3
DTSTAMP:20260420T093612Z
URL:http://business.broomfieldchamber.com/events/details/john-denver-s-rocky-mountain-high-1stbank-center-04-21-2011-1398
END:VEVENT

END:VCALENDAR
