BEGIN:VCALENDAR
VERSION:2.0
PRODID:-//ChamberMaster//Event Calendar 2.0//EN
METHOD:PUBLISH
X-PUBLISHED-TTL:P3D
REFRESH-INTERVAL:P3D
CALSCALE:GREGORIAN
BEGIN:VEVENT
DTSTART:20110422T013000Z
DTEND:20110422T043000Z
X-MICROSOFT-CDO-ALLDAYEVENT:FALSE
SUMMARY:John Denver's Rocky Mountain High\, An Earth Day Concert
DESCRIPTION:John Denver's Rocky Mountain High\n\nAn Earth Day Concert\n\n\n\nHosted by: Oliva Newton-John\n\nFeaturing members of John Denver's Band and the Boulder Philharmonic conduced by Lee Holdridge w/ performances by Nitty Gritty Dirt Band\, John Oates\, Olivia Newton-John and more to be announced!\n\n\n\nAll Ages\n\nTickets: $29.50 - $79.50\n\nTickets On Sale Fri 2/18 @ 10am
X-ALT-DESC;FMTTYPE=text/html:<span style="font-size: 16px"><span style="color: #008000"><strong>John Denver&#39\;s Rocky Mountain High<br />\nAn Earth Day Concert</strong></span><br />\n<br />\nHosted by: Oliva Newton-John<br />\nFeaturing members of John Denver&#39\;s Band and the Boulder Philharmonic conduced by Lee Holdridge w/ performances by Nitty Gritty Dirt Band\, John Oates\, Olivia Newton-John and more to be announced!<br />\n<br />\nAll Ages<br />\nTickets: $29.50 - $79.50<br />\n<em><strong>Tickets On Sale Fri 2/18 @ 10am</strong></em></span>
LOCATION:1STBANK Center 11450 Broomfield Lane Broomfield\, CO\, 80021
UID:e.641.1353
SEQUENCE:3
DTSTAMP:20260420T093636Z
URL:http://business.broomfieldchamber.com/events/details/john-denver-s-rocky-mountain-high-an-earth-day-concert-04-21-2011-1353
END:VEVENT

END:VCALENDAR
