BEGIN:VCALENDAR
VERSION:2.0
PRODID:-//ChamberMaster//Event Calendar 2.0//EN
METHOD:PUBLISH
X-PUBLISHED-TTL:P3D
REFRESH-INTERVAL:P3D
CALSCALE:GREGORIAN
BEGIN:VEVENT
DTSTART:20070302T070000Z
DTEND:20070302T070000Z
X-MICROSOFT-CDO-ALLDAYEVENT:FALSE
SUMMARY:Joint Networking Meeting 03/07
DESCRIPTION:
X-ALT-DESC;FMTTYPE=text/html:
LOCATION:Runway Grill
UID:e.641.365
SEQUENCE:3
DTSTAMP:20260423T145956Z
URL:http://business.broomfieldchamber.com/events/details/joint-networking-meeting-03-07-03-02-2007-365
END:VEVENT

END:VCALENDAR
