BEGIN:VCALENDAR
VERSION:2.0
PRODID:-//ChamberMaster//Event Calendar 2.0//EN
METHOD:PUBLISH
X-PUBLISHED-TTL:P3D
REFRESH-INTERVAL:P3D
CALSCALE:GREGORIAN
BEGIN:VEVENT
DTSTART:20110616T230000Z
DTEND:20110617T010000Z
X-MICROSOFT-CDO-ALLDAYEVENT:FALSE
SUMMARY:JP Morgan Chase Business Networking Event
DESCRIPTION:Don't miss this awesome opportunity to introduce your business to the community!  Chase is hosting a FREE networking event for small to large business owners in the Broomfield/Westminster community which alows you to be seen and be known!  Please call the branch for details.  303-466-1003\, RSVP by 6/14/2011.
X-ALT-DESC;FMTTYPE=text/html:Don&#39\;t miss this awesome opportunity to&nbsp\;introduce your business to the community!&nbsp\; Chase is hosting a FREE networking event for small to large business owners in the Broomfield/Westminster community which alows you to be seen and be known!&nbsp\; Please call the branch for details.&nbsp\; 303-466-1003\, RSVP by 6/14/2011.
LOCATION:4580 W 121st Ave Broomfield CO 80020
UID:e.641.1505
SEQUENCE:3
DTSTAMP:20260420T063431Z
URL:http://business.broomfieldchamber.com/events/details/jp-morgan-chase-business-networking-event-06-16-2011-1505
END:VEVENT

END:VCALENDAR
