BEGIN:VCALENDAR
VERSION:2.0
PRODID:-//ChamberMaster//Event Calendar 2.0//EN
METHOD:PUBLISH
X-PUBLISHED-TTL:P3D
REFRESH-INTERVAL:P3D
CALSCALE:GREGORIAN
BEGIN:VEVENT
DTSTART;VALUE=DATE:20110514
DTEND;VALUE=DATE:20110516
TRANSP:TRANSPARENT
X-MICROSOFT-CDO-ALLDAYEVENT:TRUE
SUMMARY:Kaiser Permanente Colfax Marathon
DESCRIPTION:The sixth annual 2011 Kaiser Permanente Colfax Marathon takes place May 14-15\, 2011 and includes the full marathon\, half-marathon and marathon relay\, in addition to the Colfax 5K and kid's race. \n\n\n\nEstablished by the cities of Aurora\, Denver and Lakewood to encourage Coloradans to be healthier\, the marathon has established itself as an iconic race for the mile-high city.\n\n\n\nIt supports local charities and nonprofits by providing one of the country's biggest fund-raising platforms through our Charity Partners Program. \n\n\n\nFor the latest Colfax Marathon news\, visit www.runcolfax.org\, facebook.com/runcolfax or follow us on twitter @runcolfax.
X-ALT-DESC;FMTTYPE=text/html:<span style="font-size: 16px"><strong>The sixth annual 2011 Kaiser Permanente Colfax Marathon takes place May 14-15\, 2011 and includes the full marathon\, half-marathon and marathon relay\, in addition to the Colfax 5K and kid&#39\;s race. </strong><br />\n<br />\nEstablished by the cities of Aurora\, Denver and Lakewood to encourage Coloradans to be healthier\, the marathon has established itself as an iconic race for the mile-high city.<br />\n<br />\nIt supports local charities and nonprofits by providing one of the country&#39\;s biggest fund-raising platforms through our Charity Partners Program. </span><br />\n<br />\n<span style="font-size: 16px">For the latest Colfax Marathon news\, visit www.runcolfax.org\, facebook.com/runcolfax or follow us on twitter @runcolfax.</span>
LOCATION:City Park
UID:e.641.1450
SEQUENCE:3
DTSTAMP:20260420T075714Z
URL:http://business.broomfieldchamber.com/events/details/kaiser-permanente-colfax-marathon-05-14-2011-1450
END:VEVENT

END:VCALENDAR
