BEGIN:VCALENDAR
VERSION:2.0
PRODID:-//ChamberMaster//Event Calendar 2.0//EN
METHOD:PUBLISH
X-PUBLISHED-TTL:P3D
REFRESH-INTERVAL:P3D
CALSCALE:GREGORIAN
BEGIN:VEVENT
DTSTART:20110717T023000Z
DTEND:20110717T053000Z
X-MICROSOFT-CDO-ALLDAYEVENT:FALSE
SUMMARY:Kaiser Permanente Moonlight Classic
DESCRIPTION:The Kaiser Permanente Moonlight Classic is a 10-mile\, non-competitive late night charity bike ride through Denver's historic neighborhoods. Benefiting Seniors Inc - Seniors Inc. is a 40 year-old non-profit agency dedicated to helping Colorado's elderly and their personal independence.
X-ALT-DESC;FMTTYPE=text/html:The Kaiser Permanente Moonlight Classic is a 10-mile\, non-competitive late night charity bike ride through Denver&#39\;s historic neighborhoods. Benefiting Seniors Inc - Seniors Inc. is a 40 year-old non-profit agency dedicated to helping Colorado&#39\;s elderly and their personal independence.<br />\n
LOCATION:The Kaiser Permanente Moonlight Classic will start and finish at the foot of the Colorado State Capitol in Denver.
UID:e.641.1451
SEQUENCE:3
DTSTAMP:20260420T050557Z
URL:http://business.broomfieldchamber.com/events/details/kaiser-permanente-moonlight-classic-07-16-2011-1451
END:VEVENT

END:VCALENDAR
