BEGIN:VCALENDAR
VERSION:2.0
PRODID:-//ChamberMaster//Event Calendar 2.0//EN
METHOD:PUBLISH
X-PUBLISHED-TTL:P3D
REFRESH-INTERVAL:P3D
CALSCALE:GREGORIAN
BEGIN:VEVENT
DTSTART;VALUE=DATE:20111016
DTEND;VALUE=DATE:20111017
TRANSP:TRANSPARENT
X-MICROSOFT-CDO-ALLDAYEVENT:TRUE
SUMMARY:Kaiser Permanente Run the 'Rocks
DESCRIPTION:The Kaiser Permanente Run the 'Rocks is a run/walk challenge matched with electrifying musical reverb at the world-famous amphitheater. Whether you want to run like mad\, or slowly inhale the beautiful panorama\, you don't want to muss this unique Red Rocks event to benefit the American Lung Association in Colorado.
X-ALT-DESC;FMTTYPE=text/html:The Kaiser Permanente Run the 'Rocks is a run/walk challenge matched with electrifying musical reverb at the world-famous amphitheater. Whether you want to run like mad\, or slowly inhale the beautiful panorama\, you don't want to muss this unique Red Rocks event to benefit the American Lung Association in Colorado.
LOCATION:Red Rocks Park 18300 West Alameda Parkway Morrison\, CO
UID:e.641.1452
SEQUENCE:3
DTSTAMP:20260420T005302Z
URL:http://business.broomfieldchamber.com/events/details/kaiser-permanente-run-the-rocks-10-16-2011-1452
END:VEVENT

END:VCALENDAR
