BEGIN:VCALENDAR
VERSION:2.0
PRODID:-//ChamberMaster//Event Calendar 2.0//EN
METHOD:PUBLISH
X-PUBLISHED-TTL:P3D
REFRESH-INTERVAL:P3D
CALSCALE:GREGORIAN
BEGIN:VEVENT
DTSTART:20110727T013000Z
DTEND:20110727T043000Z
X-MICROSOFT-CDO-ALLDAYEVENT:FALSE
SUMMARY:Katy Perry Concert
DESCRIPTION:www.katyperry.com
X-ALT-DESC;FMTTYPE=text/html:www.katyperry.com
LOCATION:1STBANK Center
UID:e.641.1318
SEQUENCE:3
DTSTAMP:20260420T050711Z
URL:http://business.broomfieldchamber.com/events/details/katy-perry-concert-07-26-2011-1318
END:VEVENT

END:VCALENDAR
