BEGIN:VCALENDAR
VERSION:2.0
PRODID:-//ChamberMaster//Event Calendar 2.0//EN
METHOD:PUBLISH
X-PUBLISHED-TTL:P3D
REFRESH-INTERVAL:P3D
CALSCALE:GREGORIAN
BEGIN:VEVENT
DTSTART:20120516T010000Z
DTEND:20120516T020000Z
X-MICROSOFT-CDO-ALLDAYEVENT:FALSE
SUMMARY:Kick Starting a Heart-Healthy Diet
DESCRIPTION:You probably know that a healthy diet can decrease your risk of heart disease. But changing your eating habits can be tough. In fact\, studies show that more than 90% of us fail to consistently eat a heart-healthy diet. Luckily\, healthy eating can be easier if you know where to start.\n\n\n\nCome hear a board-certified family physician describe how to kick off your heart-healthy diet. He'll explain which foods to eat more of\, which foods to limit\, how to prepare your food in a healthier way\, and what current research tells us about foods that can help keep heart disease at bay.\n\n\n\nRSVP: Reservations Required.\n\nCall 303-441-0580 or visit \n\nbchlectures.org/diet to register
X-ALT-DESC;FMTTYPE=text/html:<br />\n<span style="font-size: 14px"><span style="font-family: verdana">You probably know that a healthy diet can decrease your risk of heart disease. But changing your eating habits can be tough. In fact\, studies show that more than 90% of us fail to consistently eat a heart-healthy diet. Luckily\, healthy eating can be easier if you know where to start.<br />\n<br />\nCome hear a board-certified family physician describe how to kick off your heart-healthy diet. He&rsquo\;ll explain which foods to eat more of\, which foods to limit\, how to prepare your food in a healthier way\, and what current research tells us about foods that can help keep heart disease at bay.<br />\n<br />\n<strong>RSVP: Reservations Required.<br />\nCall 303-441-0580 or&nbsp\;visit&nbsp\;<br />\nbchlectures.org/diet to register</strong></span></span><br />\n<br />\n
LOCATION:Omni Interlocken Spa & Resort\, 500 Interlocken Blvd.\, Broomfield
UID:e.641.4155
SEQUENCE:3
DTSTAMP:20260419T144654Z
URL:http://business.broomfieldchamber.com/events/details/kick-starting-a-heart-healthy-diet-05-15-2012-4155
END:VEVENT

END:VCALENDAR
