BEGIN:VCALENDAR
VERSION:2.0
PRODID:-//ChamberMaster//Event Calendar 2.0//EN
METHOD:PUBLISH
X-PUBLISHED-TTL:P3D
REFRESH-INTERVAL:P3D
CALSCALE:GREGORIAN
BEGIN:VEVENT
DTSTART:20111016T003000Z
DTEND:20111016T030000Z
X-MICROSOFT-CDO-ALLDAYEVENT:FALSE
SUMMARY:Kids Nite Out
DESCRIPTION:This event is for kids ages 3 yrs. & up. Leave the kids with us for a night and get out on the town!\n\nActivities for the kids will include healthy snacks\, nail salon\, crafts\, fake tattoo parlour\, dancing\, games & much more!
X-ALT-DESC;FMTTYPE=text/html:<span style="font-family: verdana"><span style="font-size: 16px">This event is for kids ages 3 yrs. &amp\; up. Leave the kids with us for a night and get out on the town!<br />\nActivities for the kids will include healthy snacks\, nail salon\, crafts\, fake tattoo parlour\, dancing\, games &amp\; much more!</span></span><br />\n
LOCATION:The School of Ballet Nouveau Colorado 3001 Industrial Ln. #12 Broomfield\, CO 80020 (1 mile from Flatiron Cross Mall)
UID:e.641.3062
SEQUENCE:3
DTSTAMP:20260420T005400Z
URL:http://business.broomfieldchamber.com/events/details/kids-nite-out-10-15-2011-3062
END:VEVENT

END:VCALENDAR
