BEGIN:VCALENDAR
VERSION:2.0
PRODID:-//ChamberMaster//Event Calendar 2.0//EN
METHOD:PUBLISH
X-PUBLISHED-TTL:P3D
REFRESH-INTERVAL:P3D
CALSCALE:GREGORIAN
BEGIN:VEVENT
DTSTART:20100831T170000Z
DTEND:20100831T200000Z
X-MICROSOFT-CDO-ALLDAYEVENT:FALSE
SUMMARY:Ladies Day Fun Day at Fat Cats Fun Center
DESCRIPTION:Ladies Day Fun Day is to reward Ladies with a fun 3 hours of Bowling\, luncheon and vendors geared toward Ladies.We will have Muchi Purses\, Juice Plus\, Gifts Galore\, Organic Cleaning\, Mile High Chiropractic\, Massage Envy\, Mary Kay and more.ALSO Drawings and Fun!
X-ALT-DESC;FMTTYPE=text/html:<div>Ladies Day Fun Day is to reward Ladies with a fun&nbsp\;3&nbsp\;hours&nbsp\;of Bowling\, luncheon and vendors geared toward Ladies.</div><div>We will have Muchi Purses\, Juice Plus\, Gifts Galore\, Organic Cleaning\, Mile High Chiropractic\, Massage Envy\, Mary Kay and more.</div><div>ALSO Drawings and Fun!</div>
LOCATION:10685 Westminster Blvd. Westminster CO 80020
UID:e.641.1171
SEQUENCE:3
DTSTAMP:20260420T233459Z
URL:http://business.broomfieldchamber.com/events/details/ladies-day-fun-day-at-fat-cats-fun-center-08-31-2010-1171
END:VEVENT

END:VCALENDAR
