BEGIN:VCALENDAR
VERSION:2.0
PRODID:-//ChamberMaster//Event Calendar 2.0//EN
METHOD:PUBLISH
X-PUBLISHED-TTL:P3D
REFRESH-INTERVAL:P3D
CALSCALE:GREGORIAN
BEGIN:VEVENT
DTSTART:20101110T010000Z
DTEND:20101110T023000Z
X-MICROSOFT-CDO-ALLDAYEVENT:FALSE
SUMMARY:Lasers in Spinal Surgery-the latest news!
DESCRIPTION:Join neurosugeon Alex Mason\, MD\, with Boulder Neurosurgical Associates\, as he shares the latest news in the use of lasers for spinal surgery.\n\n\n\nNow you can get spine pain relief with a minimally invasive surgery that offers faster recovery with very low risk and no hardware. This option provides greater preservation of your spine mobility. Learn how it can work for you.
X-ALT-DESC;FMTTYPE=text/html:Join neurosugeon Alex Mason\, MD\, with Boulder Neurosurgical Associates\, as he shares the latest news in the use of lasers for spinal surgery.<br />\n<br />\nNow you can get spine pain relief with a minimally invasive surgery that offers faster recovery with very low risk and no hardware. This option provides greater preservation of your spine mobility. Learn how it can work for you. 
LOCATION:Exempla Good Samarian Medical Center Conference Center
UID:e.641.1231
SEQUENCE:3
DTSTAMP:20260420T173829Z
URL:http://business.broomfieldchamber.com/events/details/lasers-in-spinal-surgery-the-latest-news-11-09-2010-1231
END:VEVENT

END:VCALENDAR
