BEGIN:VCALENDAR
VERSION:2.0
PRODID:-//ChamberMaster//Event Calendar 2.0//EN
METHOD:PUBLISH
X-PUBLISHED-TTL:P3D
REFRESH-INTERVAL:P3D
CALSCALE:GREGORIAN
BEGIN:VEVENT
DTSTART:20110624T010000Z
DTEND:20110624T020000Z
X-MICROSOFT-CDO-ALLDAYEVENT:FALSE
SUMMARY:Latest Treatment for Hip Pain - Free Health Lecture
DESCRIPTION:Are hip problems putting a damper on your active lifestyle? Hip arthroscopy a minimally invasive outpatient treatment can greatly relieve your pain and help you delay or possibly avoid hip replacement surgery. The procedure uses small incisions to treat a variety of conditions\, including hip impingement\, labral tears\, early arthritis and cartilage defects.\n\n\n\nCome hear a board-certified\, fellowship-trained orthopedic surgeon describe this innovative option for handling hip pain.\n\n\n\nReservations required: Call 303-441-0580 or visit bchlectures.org/hip
X-ALT-DESC;FMTTYPE=text/html:Are hip problems putting a damper on your active lifestyle? Hip arthroscopy&mdash\;a minimally invasive outpatient treatment&mdash\;can greatly relieve your pain and help you delay or possibly avoid hip replacement surgery. The procedure uses small incisions to treat a variety of conditions\, including hip impingement\, labral tears\, early arthritis and cartilage defects.<br />\n<br />\n<span style="font-size: 14px"><strong>Come hear a board-certified\, fellowship-trained orthopedic surgeon describe this innovative option for handling hip pain.</strong></span><br />\n<br />\nReservations required: Call 303-441-0580 or visit bchlectures.org/hip 
LOCATION:Omni Interlocken Spa & Resort\, 500 Interlocken Blvd.\, Broomfield
UID:e.641.1487
SEQUENCE:3
DTSTAMP:20260420T063942Z
URL:http://business.broomfieldchamber.com/events/details/latest-treatment-for-hip-pain-free-health-lecture-06-23-2011-1487
END:VEVENT

END:VCALENDAR
